BEGIN:VCALENDAR
VERSION:2.0
PRODID:-//uni-bge.hu//iCalendar Event
CALSCALE:GREGORIAN
BEGIN:VEVENT
DTSTAMP:20260420T025923Z
UID:event-21784@uni-bge.hu
SUMMARY:VIII. Fogyasztóvédelmi aktualitások – fókuszban a hibás teljesítés orvoslása című konferencia
LOCATION:BGE NGK
DESCRIPTION:A Budapesti Gazdaságtudományi Egyetem Fogyasztóvédelmi Kutatócsoportja megrendezi a VIII. Fogyasztóvédelmi aktualitások - fókuszban a hibás teljesítés orvoslása című konferenciát.A rendezvény a hibás teljesítés aktuális jogi és fogyasztóvédelmi kérdéseit járja körül neves szakértők előadásaival\, lehetőséget teremtve a szakmai párbeszédre és tapasztalatcserére.A konferencián való részvétel díjtalan\, a&nbsp\;hamori.antal@uni-bge.hu&nbsp\;e-mailcímen – 2026. május 20. napjáig – lehetséges regisztrációhoz és létszámtól függő elfogadáshoz kötött.
X-ALT-DESC;FMTTYPE="text/html":<p>A Budapesti Gazdaságtudományi Egyetem Fogyasztóvédelmi Kutatócsoportja megrendezi a VIII. Fogyasztóvédelmi aktualitások - fókuszban a hibás teljesítés orvoslása című konferenciát.</p><p>A rendezvény a hibás teljesítés aktuális jogi és fogyasztóvédelmi kérdéseit járja körül neves szakértők előadásaival\, lehetőséget teremtve a szakmai párbeszédre és tapasztalatcserére.</p><p><span style="color: rgb(33\, 37\, 41)\;">A konferencián való részvétel díjtalan\, a&nbsp\;</span><a href="mailto:hamori.antal@uni-bge.hu" rel="noopener noreferrer" target="_blank" style="color: rgb(11\, 98\, 218)\;">hamori.antal@uni-bge.hu</a><span style="color: rgb(33\, 37\, 41)\;">&nbsp\;e-mailcímen – 2026. május 20. napjáig – lehetséges regisztrációhoz és létszámtól függő elfogadáshoz kötött.</span></p>
DTSTART:20260527T123057Z
DTEND:20260527T180029Z
END:VEVENT
END:VCALENDAR
